BEGIN:VCALENDAR
VERSION:2.0
PRODID:-//VERTical Innovation Cluster - ECPv6.15.20//NONSGML v1.0//EN
CALSCALE:GREGORIAN
METHOD:PUBLISH
X-WR-CALNAME:VERTical Innovation Cluster
X-ORIGINAL-URL:https://verticalcluster.com
X-WR-CALDESC:Events for VERTical Innovation Cluster
REFRESH-INTERVAL;VALUE=DURATION:PT1H
X-Robots-Tag:noindex
X-PUBLISHED-TTL:PT1H
BEGIN:VTIMEZONE
TZID:UTC
BEGIN:STANDARD
TZOFFSETFROM:+0000
TZOFFSETTO:+0000
TZNAME:UTC
DTSTART:20240101T000000
END:STANDARD
END:VTIMEZONE
BEGIN:VEVENT
DTSTART;VALUE=DATE:20250929
DTEND;VALUE=DATE:20251001
DTSTAMP:20260422T181851
CREATED:20250304T171555Z
LAST-MODIFIED:20250304T171555Z
UID:10000012-1759104000-1759276799@verticalcluster.com
SUMMARY:2025 Seattle Fusion Week
DESCRIPTION:Join fusion energy companies\, elected officials\, research institutions\, NGOs and more for educational presentations and a networking reception. 2025 Seattle Fusion Week will take place in-person in Seattle and Everett on September 29th-30th.
URL:https://verticalcluster.com/event/2025-seattle-fusion-week/
LOCATION:Everett\, WA\, Everett\, WA\, United States
END:VEVENT
END:VCALENDAR